BEGIN:VCALENDAR
VERSION:2.0
PRODID:-//Carson Valley Arts Council - ECPv6.15.20//NONSGML v1.0//EN
CALSCALE:GREGORIAN
METHOD:PUBLISH
X-WR-CALNAME:Carson Valley Arts Council
X-ORIGINAL-URL:https://www.cvartscouncil.com
X-WR-CALDESC:Events for Carson Valley Arts Council
REFRESH-INTERVAL;VALUE=DURATION:PT1H
X-Robots-Tag:noindex
X-PUBLISHED-TTL:PT1H
BEGIN:VTIMEZONE
TZID:UTC
BEGIN:STANDARD
TZOFFSETFROM:+0000
TZOFFSETTO:+0000
TZNAME:UTC
DTSTART:20240101T000000
END:STANDARD
END:VTIMEZONE
BEGIN:VEVENT
DTSTART;TZID=UTC:20250505T080000
DTEND;TZID=UTC:20250510T170000
DTSTAMP:20260422T094813
CREATED:20250128T020531Z
LAST-MODIFIED:20250430T191252Z
UID:34477-1746432000-1746896400@www.cvartscouncil.com
SUMMARY:The Wizard of Oz Comes to Local Area School
DESCRIPTION:The tale of the Wizard of Oz where audiences will skip down the Yellow Brick Road with Dorothy and her friends when the Missoula Children’s Theatre (MCT) and more than 50 local students perform an original musical adaptation of the timeless favorite THE WIZARD OF OZ. \nWizard of Oz Comes will be presented at: \nScarselli Elementary School – May 5\, 2025 to May 10\, 2025 \nThe Missoula Children’s Theatre residency in Minden and Gardnerville is presented with funding provided by the Carson Valley Arts Council\, Nevada Arts Council and the individual schools.
URL:https://www.cvartscouncil.com/event/the-wizard-of-oz-comes-to-local-area-school/
LOCATION:Scarselli Elementary School\, 699 Long Valley Rd\, Gardnerville\, 89460\, United States
CATEGORIES:Arts in the Schools,Community Event
ATTACH;FMTTYPE=image/png:https://www.cvartscouncil.com/wp-content/uploads/2025/01/WIZ-FB-COVER-1.png
END:VEVENT
BEGIN:VEVENT
DTSTART;TZID=UTC:20250505T100000
DTEND;TZID=UTC:20250627T170000
DTSTAMP:20260422T094813
CREATED:20250430T185131Z
LAST-MODIFIED:20250430T185713Z
UID:34772-1746439200-1751043600@www.cvartscouncil.com
SUMMARY:Kristy Dial And Tina Forkner Featured Artists At The Copeland Gallery
DESCRIPTION:Carson Valley Arts Council (CVAC) presents local artists Kristy Dial and Tina Forkner at the Copeland Gallery in Minden from May 5 through June 27\, 2025. \nKristy’s and Tina’s exhibit can be viewed Monday through Saturday 10 am to 5 pm. Work by both artists will be available for purchase. \nCVAC will host an artist’s reception for Kristy and Tina on Saturday\, May 10 from 1 until 3 p.m. The reception is free and open to the public. Come and meet Kristy and Tina. \nKRISTY DIAL \nGourd Art \nKristy is a professional gourd artist and teacher with 25 years of experience. She is currently the President of the Nevada Gourd Society and is an AGS Certified Judge. \nHer award-winning gourds have been shown in juried art shows and galleries throughout the western United States. \n  \n  \n  \n  \nTINA FORKNER \nWatercolor \nTina began painting in watercolor in 1997. Over the years she has developed her own personal style that can be described as detailed and representational. I like to think of myself as a storyteller artist. I am fascinated by subjects that are old and forgotten\, especially objects that continue to display their history\, character and charm. This is particularly evident in my ongoing Bodie series where my goal is to capture the passage of time as old vehicles become part of the landscape\, weathered buildings that lean from years of neglect and doors open to the past\, filled with untold stories. Additionally\, her paintings include landscapes\, wildlife\, animals and even portraits.
URL:https://www.cvartscouncil.com/event/kristy-dial-and-tina-forkner-featured-artists-at-the-copeland-gallery/
LOCATION:Carson Valley Arts Council\, 1572 US Hwy 395 N\, Minden\, NV\, 89423\, United States
CATEGORIES:Currently at the CVAC
ATTACH;FMTTYPE=image/jpeg:https://www.cvartscouncil.com/wp-content/uploads/2025/04/Dial-Gourd.jpg
END:VEVENT
END:VCALENDAR